BEGIN:VCALENDAR
VERSION:2.0
PRODID:-//hacksw/handcal//NONSGML v1.0//EN
CALSCALE:GREGORIAN
BEGIN:VEVENT
LOCATION:
DESCRIPTION:
DTSTART:20200617T113000Z
DTEND:20200617T113000Z
SUMMARY:Campus Profesional On-line: Bioeconomic
URL;VALUE=URI:https://arquitectes.cat/ca/node/34269
DTSTAMP:20260425T034214Z
UID:69ec1bf66837a
END:VEVENT
END:VCALENDAR