BEGIN:VCALENDAR
VERSION:2.0
PRODID:-//hacksw/handcal//NONSGML v1.0//EN
CALSCALE:GREGORIAN
BEGIN:VEVENT
LOCATION:En línia
DESCRIPTION:
DTSTART:20200526T093000Z
DTEND:20200630T183000Z
SUMMARY:Barcelona en reconstrucció: espais públics de postguerra. Obertura de l’avinguda de la Catedral (1939-58)
URL;VALUE=URI:https://arquitectes.cat/ca/content/barcelona-en-reconstrucci%C3%B3-espais-p%C3%BAblics-de-postguerra-obertura-de-l%E2%80%99avinguda-de-la
DTSTAMP:20260420T033815Z
UID:69e583875c41e
END:VEVENT
END:VCALENDAR