BEGIN:VCALENDAR
VERSION:2.0
PRODID:-//hacksw/handcal//NONSGML v1.0//EN
CALSCALE:GREGORIAN
BEGIN:VEVENT
LOCATION:En línia
DESCRIPTION:
DTSTART:20200521T163000Z
DTEND:20200521T163000Z
SUMMARY:Architecture and Filmmaking
URL;VALUE=URI:https://arquitectes.cat/ca/content/architecture-and-filmmaking
DTSTAMP:20260419T164720Z
UID:69e4eaf8e35f8
END:VEVENT
END:VCALENDAR