BEGIN:VCALENDAR
VERSION:2.0
PRODID:-//hacksw/handcal//NONSGML v1.0//EN
CALSCALE:GREGORIAN
BEGIN:VEVENT
LOCATION:En línia
DESCRIPTION:
DTSTART:20200522T150000Z
DTEND:20200522T150000Z
SUMMARY:Scalae: Vistas de perfil_ Mercè Llopis
URL;VALUE=URI:https://arquitectes.cat/ca/content/scalae-vistas-de-perfil-merc%C3%A8-llopis
DTSTAMP:20260419T223902Z
UID:69e53d661a8a5
END:VEVENT
END:VCALENDAR