BEGIN:VCALENDAR
VERSION:2.0
PRODID:-//hacksw/handcal//NONSGML v1.0//EN
CALSCALE:GREGORIAN
BEGIN:VEVENT
LOCATION:En línia
DESCRIPTION:
DTSTART:20200602T150000Z
DTEND:20200602T150000Z
SUMMARY:Maneres d'habitar: De totes maneres
URL;VALUE=URI:https://arquitectes.cat/ca/content/maneres-dhabitar-de-totes-maneres
DTSTAMP:20260424T072748Z
UID:69eaff5407842
END:VEVENT
END:VCALENDAR