BEGIN:VCALENDAR
VERSION:2.0
PRODID:-//hacksw/handcal//NONSGML v1.0//EN
CALSCALE:GREGORIAN
BEGIN:VEVENT
LOCATION:En línia
DESCRIPTION:
DTSTART:20200519T150000Z
DTEND:20200519T150000Z
SUMMARY:Maneras de habitar: Mil casas en tu casa
URL;VALUE=URI:https://arquitectes.cat/ca/node/34171
DTSTAMP:20260419T185745Z
UID:69e5098962d0f
END:VEVENT
END:VCALENDAR