BEGIN:VCALENDAR
VERSION:2.0
PRODID:-//hacksw/handcal//NONSGML v1.0//EN
CALSCALE:GREGORIAN
BEGIN:VEVENT
LOCATION:En línia
DESCRIPTION:
DTSTART:20200506T220000Z
DTEND:20200516T203000Z
SUMMARY:#EUMiesAwardDrawing - Concurs de dibuixos del EU Mies Award
URL;VALUE=URI:https://arquitectes.cat/ca/content/eumiesawarddrawing-concurs-de-dibuixos-del-eu-mies-award
DTSTAMP:20260420T051033Z
UID:69e59929749d6
END:VEVENT
END:VCALENDAR