BEGIN:VCALENDAR
VERSION:2.0
PRODID:-//hacksw/handcal//NONSGML v1.0//EN
CALSCALE:GREGORIAN
BEGIN:VEVENT
LOCATION:En línia
DESCRIPTION:
DTSTART:20200506T220000Z
DTEND:20200517T213000Z
SUMMARY:Mies missing materiality - Anna & Eugeni Bach
URL;VALUE=URI:https://arquitectes.cat/ca/content/mies-missing-materiality-anna-eugeni-bach
DTSTAMP:20260419T163004Z
UID:69e4e6ec14849
END:VEVENT
END:VCALENDAR