BEGIN:VCALENDAR
VERSION:2.0
PRODID:-//hacksw/handcal//NONSGML v1.0//EN
CALSCALE:GREGORIAN
BEGIN:VEVENT
LOCATION:En línia
DESCRIPTION:
DTSTART:20200506T220000Z
DTEND:20200517T213000Z
SUMMARY:Exposició virtual: Arquitectures arran d’aigua. Una capbussada a l’arxiu del Premi d’Arquitectura Contemporània de la UE – Premi Mies van der Rohe
URL;VALUE=URI:https://arquitectes.cat/ca/content/exposici%C3%B3-virtual-arquitectures-arran-d%E2%80%99aigua-una-capbussada-l%E2%80%99arxiu-del-premi-d
DTSTAMP:20260419T183323Z
UID:69e503d3595ab
END:VEVENT
END:VCALENDAR