BEGIN:VCALENDAR
VERSION:2.0
PRODID:-//hacksw/handcal//NONSGML v1.0//EN
CALSCALE:GREGORIAN
BEGIN:VEVENT
LOCATION:En línia
DESCRIPTION:
DTSTART:20200515T150000Z
DTEND:20200515T150000Z
SUMMARY:Presentación de la publicación digital "Experiencias desde el confinamiento"
URL;VALUE=URI:https://arquitectes.cat/ca/node/34140
DTSTAMP:20260419T215557Z
UID:69e5334d52921
END:VEVENT
END:VCALENDAR