BEGIN:VCALENDAR
VERSION:2.0
PRODID:-//hacksw/handcal//NONSGML v1.0//EN
CALSCALE:GREGORIAN
BEGIN:VEVENT
LOCATION:En línia
DESCRIPTION:
DTSTART:20200507T060000Z
DTEND:20200517T184500Z
SUMMARY:Setmana d'Arquitectura 2020
URL;VALUE=URI:https://arquitectes.cat/ca/content/setmana-darquitectura-2020
DTSTAMP:20260420T034630Z
UID:69e5857698cd5
END:VEVENT
END:VCALENDAR