BEGIN:VCALENDAR
VERSION:2.0
PRODID:-//hacksw/handcal//NONSGML v1.0//EN
CALSCALE:GREGORIAN
BEGIN:VEVENT
LOCATION:En línia
DESCRIPTION:
DTSTART:20200527T163000Z
DTEND:20200527T163000Z
SUMMARY:Cicle Fernando Álvarez: Conferència online de Ramón Gutiérrez i Martín Capeluto
URL;VALUE=URI:https://arquitectes.cat/ca/content/cicle-fernando-%C3%A1lvarez-confer%C3%A8ncia-online-de-ram%C3%B3n-guti%C3%A9rrez-i-mart%C3%ADn-capeluto
DTSTAMP:20260419T150349Z
UID:69e4d2b5dc327
END:VEVENT
END:VCALENDAR