BEGIN:VCALENDAR
VERSION:2.0
PRODID:-//hacksw/handcal//NONSGML v1.0//EN
CALSCALE:GREGORIAN
BEGIN:VEVENT
LOCATION:En línia
DESCRIPTION:
DTSTART:20200520T160000Z
DTEND:20200520T160000Z
SUMMARY:Cicle Fernando Álvarez: Conferència online de J. Ignacio del Cueto i Jimena Torre
URL;VALUE=URI:https://arquitectes.cat/ca/content/cicle-fernando-%C3%A1lvarez-confer%C3%A8ncia-online-de-j-ignacio-del-cueto-i-jimena-torre
DTSTAMP:20260419T210024Z
UID:69e5264821788
END:VEVENT
END:VCALENDAR