BEGIN:VCALENDAR
VERSION:2.0
PRODID:-//hacksw/handcal//NONSGML v1.0//EN
CALSCALE:GREGORIAN
BEGIN:VEVENT
LOCATION:En línia
DESCRIPTION:
DTSTART:20200513T140000Z
DTEND:20200513T140000Z
SUMMARY:Cicle Fernando Álvarez: conferència online de Jon Álvarez. 
URL;VALUE=URI:https://arquitectes.cat/ca/content/cicle-fernando-%C3%A1lvarez-confer%C3%A8ncia-online-de-jon-%C3%A1lvarez
DTSTAMP:20260420T003328Z
UID:69e55838544dd
END:VEVENT
END:VCALENDAR