BEGIN:VCALENDAR
VERSION:2.0
PRODID:-//hacksw/handcal//NONSGML v1.0//EN
CALSCALE:GREGORIAN
BEGIN:VEVENT
LOCATION:En línia
DESCRIPTION:
DTSTART:20200424T150000Z
DTEND:20200424T150000Z
SUMMARY:C de Confinament: Conferència online de Andrea + Joan
URL;VALUE=URI:https://arquitectes.cat/ca/content/c-de-confinament-confer%C3%A8ncia-online-de-andrea-joan
DTSTAMP:20260426T051311Z
UID:69ed82c7ce66c
END:VEVENT
END:VCALENDAR