BEGIN:VCALENDAR
VERSION:2.0
PRODID:-//hacksw/handcal//NONSGML v1.0//EN
CALSCALE:GREGORIAN
BEGIN:VEVENT
LOCATION:En línia
DESCRIPTION:
DTSTART:20200429T170000Z
DTEND:20200429T170000Z
SUMMARY:Videoconferència | Nicole Aschoff: “Smartphones\, Smart Cities and the Digital Frontier”
URL;VALUE=URI:https://arquitectes.cat/ca/content/videoconfer%C3%A8ncia-nicole-aschoff-%E2%80%9Csmartphones-smart-cities-and-digital-frontier%E2%80%9D
DTSTAMP:20260419T205638Z
UID:69e5256620908
END:VEVENT
END:VCALENDAR