BEGIN:VCALENDAR
VERSION:2.0
PRODID:-//hacksw/handcal//NONSGML v1.0//EN
CALSCALE:GREGORIAN
BEGIN:VEVENT
LOCATION:En línia
DESCRIPTION:
DTSTART:20200421T074500Z
DTEND:20200512T180000Z
SUMMARY:CURS | Codi Tècnic de l’Edificació 2019: estalvi energètic i protecció en front el radó
URL;VALUE=URI:https://arquitectes.cat/ca/content/curs-codi-t%C3%A8cnic-de-l%E2%80%99edificaci%C3%B3-2019-estalvi-energ%C3%A8tic-i-protecci%C3%B3-en-front-el-rad%C3%B3-0
DTSTAMP:20260419T235658Z
UID:69e54faa6dd0c
END:VEVENT
END:VCALENDAR