BEGIN:VCALENDAR
VERSION:2.0
PRODID:-//hacksw/handcal//NONSGML v1.0//EN
CALSCALE:GREGORIAN
BEGIN:VEVENT
LOCATION:En línia
DESCRIPTION:
DTSTART:20200402T090000Z
DTEND:20210531T180000Z
SUMMARY:Revista de Corresponsals: Els corresponsals COAC ens apropen l'arquitectura dels seus països
URL;VALUE=URI:https://arquitectes.cat/ca/content/revista-de-corresponsals-els-corresponsals-coac-ens-apropen-larquitectura-dels-seus-pa%C3%AFsos
DTSTAMP:20260419T192147Z
UID:69e50f2be286e
END:VEVENT
END:VCALENDAR