BEGIN:VCALENDAR
VERSION:2.0
PRODID:-//hacksw/handcal//NONSGML v1.0//EN
CALSCALE:GREGORIAN
BEGIN:VEVENT
LOCATION:En línia
DESCRIPTION:
DTSTART:20200330T153000Z
DTEND:20200511T181500Z
SUMMARY:Participa: Call for topics\, un debat obert entorn el patrimoni arquitectònic
URL;VALUE=URI:https://arquitectes.cat/ca/content/participa-call-topics-un-debat-obert-entorn-el-patrimoni-arquitect%C3%B2nic
DTSTAMP:20260419T144905Z
UID:69e4cf412410b
END:VEVENT
END:VCALENDAR