BEGIN:VCALENDAR
VERSION:2.0
PRODID:-//hacksw/handcal//NONSGML v1.0//EN
CALSCALE:GREGORIAN
BEGIN:VEVENT
LOCATION:En línia
DESCRIPTION:
DTSTART:20200330T090000Z
DTEND:20210831T180000Z
SUMMARY:Consulta l'arxiu en línia del Premi d'Arquitectura Contemporània de la Unió Europea - Premi Mies van der Rohe 
URL;VALUE=URI:https://arquitectes.cat/ca/content/consulta-larxiu-en-l%C3%ADnia-del-premi-darquitectura-contempor%C3%A0nia-de-la-uni%C3%B3-europea-premi-mies
DTSTAMP:20260420T033914Z
UID:69e583c2ae246
END:VEVENT
END:VCALENDAR