BEGIN:VCALENDAR
VERSION:2.0
PRODID:-//hacksw/handcal//NONSGML v1.0//EN
CALSCALE:GREGORIAN
BEGIN:VEVENT
LOCATION:En línia
DESCRIPTION:
DTSTART:20200324T163000Z
DTEND:20200511T183000Z
SUMMARY:Passejades virtuals pel Metropolitan Museum de Nova York. The Met 360°
URL;VALUE=URI:https://arquitectes.cat/ca/content/passejades-virtuals-pel-metropolitan-museum-de-nova-york-met-360%C2%B0
DTSTAMP:20260419T223454Z
UID:69e53c6e2f7a7
END:VEVENT
END:VCALENDAR