BEGIN:VCALENDAR
VERSION:2.0
PRODID:-//hacksw/handcal//NONSGML v1.0//EN
CALSCALE:GREGORIAN
BEGIN:VEVENT
LOCATION:En línia
DESCRIPTION:
DTSTART:20200320T084500Z
DTEND:20200320T084500Z
SUMMARY:Una visita (virtual) al Museu
URL;VALUE=URI:https://arquitectes.cat/ca/content/una-visita-virtual-al-museu
DTSTAMP:20260420T051155Z
UID:69e5997b21b78
END:VEVENT
END:VCALENDAR