BEGIN:VCALENDAR
VERSION:2.0
PRODID:-//hacksw/handcal//NONSGML v1.0//EN
CALSCALE:GREGORIAN
BEGIN:VEVENT
LOCATION:En línia
DESCRIPTION:
DTSTART:20200317T150000Z
DTEND:20200511T190000Z
SUMMARY:Tour virtual per la casa Masó
URL;VALUE=URI:https://arquitectes.cat/ca/content/tour-virtual-la-casa-mas%C3%B3
DTSTAMP:20260419T235407Z
UID:69e54effdd0e7
END:VEVENT
END:VCALENDAR