BEGIN:VCALENDAR
VERSION:2.0
PRODID:-//hacksw/handcal//NONSGML v1.0//EN
CALSCALE:GREGORIAN
BEGIN:VEVENT
LOCATION:Barcelona
DESCRIPTION:
DTSTART:20200328T090000Z
DTEND:20200328T113000Z
SUMMARY:Espacio de baño Zero Waste: Cómo reducir tus residuos y hacerlo sostenible
URL;VALUE=URI:https://arquitectes.cat/ca/node/33728
DTSTAMP:20260419T143101Z
UID:69e4cb05584c9
END:VEVENT
END:VCALENDAR