BEGIN:VCALENDAR
VERSION:2.0
PRODID:-//hacksw/handcal//NONSGML v1.0//EN
CALSCALE:GREGORIAN
BEGIN:VEVENT
LOCATION:Terrassa
DESCRIPTION:
DTSTART:20200312T141500Z
DTEND:20201130T180000Z
SUMMARY:Exposició: "Terrassa. Espais interiors i efímers"
URL;VALUE=URI:https://arquitectes.cat/ca/content/exposici%C3%B3-terrassa-espais-interiors-i-ef%C3%ADmers
DTSTAMP:20260425T190900Z
UID:69ecf52c857a1
END:VEVENT
END:VCALENDAR