BEGIN:VCALENDAR
VERSION:2.0
PRODID:-//hacksw/handcal//NONSGML v1.0//EN
CALSCALE:GREGORIAN
BEGIN:VEVENT
LOCATION:Terrassa
DESCRIPTION:
DTSTART:20200324T070000Z
DTEND:20200324T070000Z
SUMMARY:[Cancel·lat] La Intercol·legial Tècnica del Vallès organitza una visita guiada a les instal·lacions de Prefabricats Pujol 
URL;VALUE=URI:https://arquitectes.cat/ca/content/cancel%C2%B7lat-la-intercol%C2%B7legial-t%C3%A8cnica-del-vall%C3%A8s-organitza-una-visita-guiada-les-instal
DTSTAMP:20260419T140508Z
UID:69e4c4f40b4aa
END:VEVENT
END:VCALENDAR