BEGIN:VCALENDAR
VERSION:2.0
PRODID:-//hacksw/handcal//NONSGML v1.0//EN
CALSCALE:GREGORIAN
BEGIN:VEVENT
LOCATION:
DESCRIPTION:
DTSTART:20200321T080000Z
DTEND:20200321T080000Z
SUMMARY:[Cancel·lat] Sortida Territori Jujol
URL;VALUE=URI:https://arquitectes.cat/ca/content/cancel%C2%B7lat-sortida-territori-jujol
DTSTAMP:20260419T233738Z
UID:69e54b22b05b3
END:VEVENT
END:VCALENDAR