BEGIN:VCALENDAR
VERSION:2.0
PRODID:-//hacksw/handcal//NONSGML v1.0//EN
CALSCALE:GREGORIAN
BEGIN:VEVENT
LOCATION:Barcelona
DESCRIPTION:
DTSTART:20200512T170000Z
DTEND:20200512T170000Z
SUMMARY:Conferencia: COCINA Y DISEÑO MÁS ALLÁ DE LOS SENTIDOS. POR ANDREU CARULLA Y JORDI ROCA
URL;VALUE=URI:https://arquitectes.cat/ca/node/33684
DTSTAMP:20260419T211833Z
UID:69e52a89a001b
END:VEVENT
END:VCALENDAR