BEGIN:VCALENDAR
VERSION:2.0
PRODID:-//hacksw/handcal//NONSGML v1.0//EN
CALSCALE:GREGORIAN
BEGIN:VEVENT
LOCATION:Barcelona
DESCRIPTION:
DTSTART:20200228T080000Z
DTEND:20200607T180000Z
SUMMARY:Visita Comentada Exposición: OBJETOS DE DESEO. SURREALISMO Y DISEÑO\, 1924-2020
URL;VALUE=URI:https://arquitectes.cat/ca/node/33674
DTSTAMP:20260424T183119Z
UID:69eb9ad71c050
END:VEVENT
END:VCALENDAR