BEGIN:VCALENDAR
VERSION:2.0
PRODID:-//hacksw/handcal//NONSGML v1.0//EN
CALSCALE:GREGORIAN
BEGIN:VEVENT
LOCATION:Terrassa
DESCRIPTION:
DTSTART:20200319T080000Z
DTEND:20200319T080000Z
SUMMARY:[Cancel·lat] Jornada informativa al Vallès sobre les novetats del CTE
URL;VALUE=URI:https://arquitectes.cat/ca/content/cancel%C2%B7lat-jornada-informativa-al-vall%C3%A8s-sobre-les-novetats-del-cte
DTSTAMP:20260421T205630Z
UID:69e7c85ecd016
END:VEVENT
END:VCALENDAR