BEGIN:VCALENDAR
VERSION:2.0
PRODID:-//hacksw/handcal//NONSGML v1.0//EN
CALSCALE:GREGORIAN
BEGIN:VEVENT
LOCATION:Tarragona
DESCRIPTION:
DTSTART:20200325T080000Z
DTEND:20200325T080000Z
SUMMARY:[Cancel·lat] Jornada informativa a Tarragona sobre les novetats del CTE
URL;VALUE=URI:https://arquitectes.cat/ca/content/cancel%C2%B7lat-jornada-informativa-tarragona-sobre-les-novetats-del-cte
DTSTAMP:20260419T140638Z
UID:69e4c54e60ef7
END:VEVENT
END:VCALENDAR