BEGIN:VCALENDAR
VERSION:2.0
PRODID:-//hacksw/handcal//NONSGML v1.0//EN
CALSCALE:GREGORIAN
BEGIN:VEVENT
LOCATION:Lleida
DESCRIPTION:
DTSTART:20200206T183000Z
DTEND:20200331T150000Z
SUMMARY:Exposición: "50 años del Archivo Histórico"
URL;VALUE=URI:https://arquitectes.cat/ca/node/33597
DTSTAMP:20260419T173952Z
UID:69e4f7486b9d8
END:VEVENT
END:VCALENDAR