BEGIN:VCALENDAR
VERSION:2.0
PRODID:-//hacksw/handcal//NONSGML v1.0//EN
CALSCALE:GREGORIAN
BEGIN:VEVENT
LOCATION:Barcelona
DESCRIPTION:
DTSTART:20200220T170000Z
DTEND:20200220T170000Z
SUMMARY:Presentació del llibre "Gran Mediterraneo"
URL;VALUE=URI:https://arquitectes.cat/ca/content/presentaci%C3%B3-del-llibre-gran-mediterraneo
DTSTAMP:20260420T033839Z
UID:69e5839fab627
END:VEVENT
END:VCALENDAR