BEGIN:VCALENDAR
VERSION:2.0
PRODID:-//hacksw/handcal//NONSGML v1.0//EN
CALSCALE:GREGORIAN
BEGIN:VEVENT
LOCATION:Terrassa
DESCRIPTION:
DTSTART:20200503T080000Z
DTEND:20200503T080000Z
SUMMARY:Jornada de portes obertes al mNACTEC
URL;VALUE=URI:https://arquitectes.cat/ca/content/jornada-de-portes-obertes-al-mnactec-4
DTSTAMP:20260419T203128Z
UID:69e51f80a76a0
END:VEVENT
END:VCALENDAR