BEGIN:VCALENDAR
VERSION:2.0
PRODID:-//hacksw/handcal//NONSGML v1.0//EN
CALSCALE:GREGORIAN
BEGIN:VEVENT
LOCATION:Barcelona
DESCRIPTION:
DTSTART:20200215T073000Z
DTEND:20200215T073000Z
SUMMARY:Pedalada: "L'Escala Metropolitana de la Bici"
URL;VALUE=URI:https://arquitectes.cat/ca/content/pedalada-lescala-metropolitana-de-la-bici
DTSTAMP:20260419T211947Z
UID:69e52ad3b985d
END:VEVENT
END:VCALENDAR