BEGIN:VCALENDAR
VERSION:2.0
PRODID:-//hacksw/handcal//NONSGML v1.0//EN
CALSCALE:GREGORIAN
BEGIN:VEVENT
LOCATION:Sant Cugat del Vallès
DESCRIPTION:
DTSTART:20200211T123000Z
DTEND:20200211T123000Z
SUMMARY:Conferencia de Mark Pauly: Transformative Geometry
URL;VALUE=URI:https://arquitectes.cat/ca/node/33500
DTSTAMP:20260419T145639Z
UID:69e4d107bd8e7
END:VEVENT
END:VCALENDAR