BEGIN:VCALENDAR
VERSION:2.0
PRODID:-//hacksw/handcal//NONSGML v1.0//EN
CALSCALE:GREGORIAN
BEGIN:VEVENT
LOCATION:Sant Cugat del Vallès
DESCRIPTION:
DTSTART:20200211T123000Z
DTEND:20200211T123000Z
SUMMARY:Conferència de Mark Pauly: "Transformative Geometry"
URL;VALUE=URI:https://arquitectes.cat/ca/content/confer%C3%A8ncia-de-mark-pauly-transformative-geometry
DTSTAMP:20260419T200011Z
UID:69e5182b50bbf
END:VEVENT
END:VCALENDAR