BEGIN:VCALENDAR
VERSION:2.0
PRODID:-//hacksw/handcal//NONSGML v1.0//EN
CALSCALE:GREGORIAN
BEGIN:VEVENT
LOCATION:Barcelona
DESCRIPTION:
DTSTART:20200220T170000Z
DTEND:20200220T170000Z
SUMMARY:Architecture short films: Picapedrers\, the quarry tradition in Catalonia
URL;VALUE=URI:https://arquitectes.cat/ca/node/33482
DTSTAMP:20260420T035438Z
UID:69e5875e6d55c
END:VEVENT
END:VCALENDAR