BEGIN:VCALENDAR
VERSION:2.0
PRODID:-//hacksw/handcal//NONSGML v1.0//EN
CALSCALE:GREGORIAN
BEGIN:VEVENT
LOCATION:Barcelona
DESCRIPTION:
DTSTART:20200116T080000Z
DTEND:20200216T130000Z
SUMMARY:Exposición: "Para Durar"
URL;VALUE=URI:https://arquitectes.cat/ca/node/33430
DTSTAMP:20260426T033401Z
UID:69ed6b8941e20
END:VEVENT
END:VCALENDAR