BEGIN:VCALENDAR
VERSION:2.0
PRODID:-//hacksw/handcal//NONSGML v1.0//EN
CALSCALE:GREGORIAN
BEGIN:VEVENT
LOCATION:Girona
DESCRIPTION:
DTSTART:20200213T170000Z
DTEND:20200213T170000Z
SUMMARY:Conferencia "Bauhaus Museum Dessau" a cargo de Roberto González de Adenda Architects
URL;VALUE=URI:https://arquitectes.cat/ca/node/33373
DTSTAMP:20260419T140548Z
UID:69e4c51c168f5
END:VEVENT
END:VCALENDAR