BEGIN:VCALENDAR
VERSION:2.0
PRODID:-//hacksw/handcal//NONSGML v1.0//EN
CALSCALE:GREGORIAN
BEGIN:VEVENT
LOCATION:
DESCRIPTION:
DTSTART:20200120T180000Z
DTEND:20200120T180000Z
SUMMARY:Escala Humana a TV2. Ep. 2: Tocar Madera
URL;VALUE=URI:https://arquitectes.cat/ca/content/escala-humana-tv2-ep-2-tocar-madera
DTSTAMP:20260425T212551Z
UID:69ed153f4da94
END:VEVENT
END:VCALENDAR