BEGIN:VCALENDAR
VERSION:2.0
PRODID:-//hacksw/handcal//NONSGML v1.0//EN
CALSCALE:GREGORIAN
BEGIN:VEVENT
LOCATION:Barcelona
DESCRIPTION:
DTSTART:20200123T170000Z
DTEND:20200130T180000Z
SUMMARY:Exposición "Número Cero. Construyendo una revista"
URL;VALUE=URI:https://arquitectes.cat/ca/node/33358
DTSTAMP:20260419T163433Z
UID:69e4e7f9407ee
END:VEVENT
END:VCALENDAR