BEGIN:VCALENDAR
VERSION:2.0
PRODID:-//hacksw/handcal//NONSGML v1.0//EN
CALSCALE:GREGORIAN
BEGIN:VEVENT
LOCATION:Figueres
DESCRIPTION:
DTSTART:20200109T173000Z
DTEND:20200109T173000Z
SUMMARY:Conferencia "Diálogo entre viajeros"\, en Figueres
URL;VALUE=URI:https://arquitectes.cat/ca/node/33302
DTSTAMP:20260419T184905Z
UID:69e5078160a18
END:VEVENT
END:VCALENDAR