BEGIN:VCALENDAR
VERSION:2.0
PRODID:-//hacksw/handcal//NONSGML v1.0//EN
CALSCALE:GREGORIAN
BEGIN:VEVENT
LOCATION:Tarragona
DESCRIPTION:
DTSTART:20200528T173000Z
DTEND:20200528T173000Z
SUMMARY:Conferencia: VAUMM ///ONLINE/// 
URL;VALUE=URI:https://arquitectes.cat/ca/node/33288
DTSTAMP:20260425T161605Z
UID:69eccca525a03
END:VEVENT
END:VCALENDAR