BEGIN:VCALENDAR
VERSION:2.0
PRODID:-//hacksw/handcal//NONSGML v1.0//EN
CALSCALE:GREGORIAN
BEGIN:VEVENT
LOCATION:Barcelona
DESCRIPTION:
DTSTART:20200115T170000Z
DTEND:20200115T170000Z
SUMMARY:Arquinset’19: "Paisaje Internacional"
URL;VALUE=URI:https://arquitectes.cat/ca/node/33255
DTSTAMP:20260426T031920Z
UID:69ed6818b2a20
END:VEVENT
END:VCALENDAR