BEGIN:VCALENDAR
VERSION:2.0
PRODID:-//hacksw/handcal//NONSGML v1.0//EN
CALSCALE:GREGORIAN
BEGIN:VEVENT
LOCATION:Barcelona
DESCRIPTION:
DTSTART:20191223T090000Z
DTEND:20200103T110000Z
SUMMARY:Taller familiar de ceràmica - Especial Nadal
URL;VALUE=URI:https://arquitectes.cat/ca/content/taller-familiar-de-cer%C3%A0mica-especial-nadal
DTSTAMP:20260426T051126Z
UID:69ed825e7925e
END:VEVENT
END:VCALENDAR