BEGIN:VCALENDAR
VERSION:2.0
PRODID:-//hacksw/handcal//NONSGML v1.0//EN
CALSCALE:GREGORIAN
BEGIN:VEVENT
LOCATION:Barcelona
DESCRIPTION:
DTSTART:20200115T170000Z
DTEND:20200115T170000Z
SUMMARY:Presentación en el COAC del concurso de ideas del AMB "El futuro de las infraestructuras viarias"
URL;VALUE=URI:https://arquitectes.cat/ca/node/33232
DTSTAMP:20260424T121855Z
UID:69eb438f706ff
END:VEVENT
END:VCALENDAR