BEGIN:VCALENDAR
VERSION:2.0
PRODID:-//hacksw/handcal//NONSGML v1.0//EN
CALSCALE:GREGORIAN
BEGIN:VEVENT
LOCATION:Girona
DESCRIPTION:
DTSTART:20191212T170000Z
DTEND:20191212T170000Z
SUMMARY:Trobades amb… Ricardo Cavolo
URL;VALUE=URI:https://arquitectes.cat/ca/content/trobades-amb%E2%80%A6-ricardo-cavolo
DTSTAMP:20260425T141711Z
UID:69ecb0c77757d
END:VEVENT
END:VCALENDAR