BEGIN:VCALENDAR
VERSION:2.0
PRODID:-//hacksw/handcal//NONSGML v1.0//EN
CALSCALE:GREGORIAN
BEGIN:VEVENT
LOCATION:Barcelona
DESCRIPTION:
DTSTART:20191218T103000Z
DTEND:20191218T103000Z
SUMMARY:Conferencia de Alberto Veiga\, de Barozzi Veiga: "All that is" 
URL;VALUE=URI:https://arquitectes.cat/ca/node/33176
DTSTAMP:20260419T221651Z
UID:69e538331296b
END:VEVENT
END:VCALENDAR