BEGIN:VCALENDAR
VERSION:2.0
PRODID:-//hacksw/handcal//NONSGML v1.0//EN
CALSCALE:GREGORIAN
BEGIN:VEVENT
LOCATION:Barcelona
DESCRIPTION:
DTSTART:20191218T103000Z
DTEND:20191218T103000Z
SUMMARY:Conferència d'Alberto Veiga\, de Barozzi Veiga: "All that is" 
URL;VALUE=URI:https://arquitectes.cat/ca/content/confer%C3%A8ncia-dalberto-veiga-de-barozzi-veiga-all
DTSTAMP:20260419T143613Z
UID:69e4cc3dde8eb
END:VEVENT
END:VCALENDAR